BEGIN:VCALENDAR
VERSION:2.0
PRODID:-//Kings Worthy Parish Council//Meeting Calendar//EN
CALSCALE:GREGORIAN
METHOD:PUBLISH
BEGIN:VEVENT
UID:70482-20230522@kingsworthy-pc.gov.uk
DTSTAMP:20260419T175543Z
DTSTART;VALUE=DATE:20230522
DTEND;VALUE=DATE:20230523
SUMMARY:Annual Parish Meeting Agenda &#8211\\; 22nd May 2023
DESCRIPTION:Annual Meeting\nView details: https://kingsworthy-pc.gov.uk/meetings/annual-parish-meeting-agenda-22nd-may-2023/
URL:https://kingsworthy-pc.gov.uk/meetings/annual-parish-meeting-agenda-22nd-may-2023/
END:VEVENT
END:VCALENDAR
