BEGIN:VCALENDAR
VERSION:2.0
PRODID:-//Kings Worthy Parish Council//Meeting Calendar//EN
CALSCALE:GREGORIAN
METHOD:PUBLISH
BEGIN:VEVENT
UID:70511-20240117@kingsworthy-pc.gov.uk
DTSTAMP:20260419T195402Z
DTSTART;VALUE=DATE:20240117
DTEND;VALUE=DATE:20240118
SUMMARY:FAR Committee Meetings &#8211\\; 2024
DESCRIPTION:Finance, Administration &amp; Remuneration Committee Meeting\nView details: https://kingsworthy-pc.gov.uk/meetings/far-council-meetings-2024/
URL:https://kingsworthy-pc.gov.uk/meetings/far-council-meetings-2024/
END:VEVENT
END:VCALENDAR
