BEGIN:VCALENDAR
VERSION:2.0
PRODID:-//Kings Worthy Parish Council//Meeting Calendar//EN
CALSCALE:GREGORIAN
METHOD:PUBLISH
BEGIN:VEVENT
UID:70527-20230118@kingsworthy-pc.gov.uk
DTSTAMP:20260419T194032Z
DTSTART;VALUE=DATE:20230118
DTEND;VALUE=DATE:20230119
SUMMARY:FAR Committee Meetings &#8211\\; 2023
DESCRIPTION:Finance, Administration &amp; Remuneration Committee Meeting\nView details: https://kingsworthy-pc.gov.uk/meetings/far-council-meetings-2023/
URL:https://kingsworthy-pc.gov.uk/meetings/far-council-meetings-2023/
END:VEVENT
END:VCALENDAR
