BEGIN:VCALENDAR
VERSION:2.0
PRODID:-//Kings Worthy Parish Council//Meeting Calendar//EN
CALSCALE:GREGORIAN
METHOD:PUBLISH
BEGIN:VEVENT
UID:72293-20241016@kingsworthy-pc.gov.uk
DTSTAMP:20260419T211733Z
DTSTART;VALUE=DATE:20241016
DTEND;VALUE=DATE:20241017
SUMMARY:Finance\\, Administration &#038\\; Remuneration committee &#8211\\; 16th October 2024
DESCRIPTION:Finance, Administration &amp; Remuneration Committee Meeting\nView details: https://kingsworthy-pc.gov.uk/meetings/finance-administration-remuneration-committee-16th-october-2024/
URL:https://kingsworthy-pc.gov.uk/meetings/finance-administration-remuneration-committee-16th-october-2024/
END:VEVENT
END:VCALENDAR
