BEGIN:VCALENDAR
VERSION:2.0
PRODID:-//Kings Worthy Parish Council//Meeting Calendar//EN
CALSCALE:GREGORIAN
METHOD:PUBLISH
BEGIN:VEVENT
UID:72512-20250127@kingsworthy-pc.gov.uk
DTSTAMP:20260419T130509Z
DTSTART;VALUE=DATE:20250127
DTEND;VALUE=DATE:20250128
SUMMARY:Full Council meeting &#8211\\; 27th January 2025
DESCRIPTION:Full Council Meeting\nView details: https://kingsworthy-pc.gov.uk/meetings/full-council-meeting-27th-january-2025/
URL:https://kingsworthy-pc.gov.uk/meetings/full-council-meeting-27th-january-2025/
END:VEVENT
END:VCALENDAR
