BEGIN:VCALENDAR
VERSION:2.0
PRODID:-//Kings Worthy Parish Council//Meeting Calendar//EN
CALSCALE:GREGORIAN
METHOD:PUBLISH
BEGIN:VEVENT
UID:72534-20250115@kingsworthy-pc.gov.uk
DTSTAMP:20260419T212436Z
DTSTART;VALUE=DATE:20250115
DTEND;VALUE=DATE:20250116
SUMMARY:Finance\\, Administration &#038\\; Remuneration committee &#8211\\; 15th January 2025
DESCRIPTION:Finance, Administration &amp; Remuneration Committee Meeting\nView details: https://kingsworthy-pc.gov.uk/meetings/finance-administration-remuneration-committee-15th-january-2025/
URL:https://kingsworthy-pc.gov.uk/meetings/finance-administration-remuneration-committee-15th-january-2025/
END:VEVENT
END:VCALENDAR
