BEGIN:VCALENDAR
VERSION:2.0
PRODID:-//Kings Worthy Parish Council//Meeting Calendar//EN
CALSCALE:GREGORIAN
METHOD:PUBLISH
BEGIN:VEVENT
UID:72536-20250319@kingsworthy-pc.gov.uk
DTSTAMP:20260419T223502Z
DTSTART;VALUE=DATE:20250319
DTEND;VALUE=DATE:20250320
SUMMARY:Finance\\, Administration &#038\\; Remuneration committee &#8211\\; 19th March 2025
DESCRIPTION:Finance, Administration &amp; Remuneration Committee Meeting\nView details: https://kingsworthy-pc.gov.uk/meetings/finance-administration-remuneration-committee-19th-march-2025/
URL:https://kingsworthy-pc.gov.uk/meetings/finance-administration-remuneration-committee-19th-march-2025/
END:VEVENT
END:VCALENDAR
