BEGIN:VCALENDAR
VERSION:2.0
PRODID:-//Kings Worthy Parish Council//Meeting Calendar//EN
CALSCALE:GREGORIAN
METHOD:PUBLISH
BEGIN:VEVENT
UID:72537-20250416@kingsworthy-pc.gov.uk
DTSTAMP:20260419T224611Z
DTSTART;VALUE=DATE:20250416
DTEND;VALUE=DATE:20250417
SUMMARY:Finance\\, Administration &#038\\; Remuneration committee &#8211\\; 16th April 2025
DESCRIPTION:Finance, Administration &amp; Remuneration Committee Meeting\nView details: https://kingsworthy-pc.gov.uk/meetings/finance-administration-remuneration-committee-16th-april-2025/
URL:https://kingsworthy-pc.gov.uk/meetings/finance-administration-remuneration-committee-16th-april-2025/
END:VEVENT
END:VCALENDAR
