BEGIN:VCALENDAR
VERSION:2.0
PRODID:-//Kings Worthy Parish Council//Meeting Calendar//EN
CALSCALE:GREGORIAN
METHOD:PUBLISH
BEGIN:VEVENT
UID:72538-20250507@kingsworthy-pc.gov.uk
DTSTAMP:20260419T223218Z
DTSTART;VALUE=DATE:20250507
DTEND;VALUE=DATE:20250508
SUMMARY:Finance\\, Administration &#038\\; Remuneration committee &#8211\\; 7th May 2025
DESCRIPTION:Finance, Administration &amp; Remuneration Committee Meeting\nView details: https://kingsworthy-pc.gov.uk/meetings/finance-administration-remuneration-committee-7th-may-2025/
URL:https://kingsworthy-pc.gov.uk/meetings/finance-administration-remuneration-committee-7th-may-2025/
END:VEVENT
END:VCALENDAR
