BEGIN:VCALENDAR
VERSION:2.0
PRODID:-//Kings Worthy Parish Council//Meeting Calendar//EN
CALSCALE:GREGORIAN
METHOD:PUBLISH
BEGIN:VEVENT
UID:72539-20250618@kingsworthy-pc.gov.uk
DTSTAMP:20260419T235340Z
DTSTART;VALUE=DATE:20250618
DTEND;VALUE=DATE:20250619
SUMMARY:CANCELLED &#8211\\; Finance\\, Administration &#038\\; Remuneration committee &#8211\\; 18th June 2025
DESCRIPTION:Finance, Administration &amp; Remuneration Committee Meeting\nView details: https://kingsworthy-pc.gov.uk/meetings/finance-administration-remuneration-committee-12th-june-2025/
URL:https://kingsworthy-pc.gov.uk/meetings/finance-administration-remuneration-committee-12th-june-2025/
END:VEVENT
END:VCALENDAR
