BEGIN:VCALENDAR
VERSION:2.0
PRODID:-//Kings Worthy Parish Council//Meeting Calendar//EN
CALSCALE:GREGORIAN
METHOD:PUBLISH
BEGIN:VEVENT
UID:72733-20210125@kingsworthy-pc.gov.uk
DTSTAMP:20260419T221230Z
DTSTART;VALUE=DATE:20210125
DTEND;VALUE=DATE:20210126
SUMMARY:Council Meeting Minutes &#8211\\; 2021
DESCRIPTION:Full Council Meeting\nView details: https://kingsworthy-pc.gov.uk/meetings/council-meeting-minutes-2021/
URL:https://kingsworthy-pc.gov.uk/meetings/council-meeting-minutes-2021/
END:VEVENT
END:VCALENDAR
