BEGIN:VCALENDAR
VERSION:2.0
PRODID:-//Kings Worthy Parish Council//Meeting Calendar//EN
CALSCALE:GREGORIAN
METHOD:PUBLISH
BEGIN:VEVENT
UID:72736-20190121@kingsworthy-pc.gov.uk
DTSTAMP:20260419T204652Z
DTSTART;VALUE=DATE:20190121
DTEND;VALUE=DATE:20190122
SUMMARY:Council meeting minutes &#8211\\; 2019
DESCRIPTION:Full Council Meeting\nView details: https://kingsworthy-pc.gov.uk/meetings/council-meeting-minutes-2019/
URL:https://kingsworthy-pc.gov.uk/meetings/council-meeting-minutes-2019/
END:VEVENT
END:VCALENDAR
