BEGIN:VCALENDAR
VERSION:2.0
PRODID:-//Kings Worthy Parish Council//Meeting Calendar//EN
CALSCALE:GREGORIAN
METHOD:PUBLISH
BEGIN:VEVENT
UID:73411-20260108@kingsworthy-pc.gov.uk
DTSTAMP:20260421T152419Z
DTSTART;VALUE=DATE:20260108
DTEND;VALUE=DATE:20260109
SUMMARY:Recreation &#038\\; Amenities committee &#8211\\; 8th January 2026
DESCRIPTION:Recreation &amp; Amenities Committee Meeting\nView details: https://kingsworthy-pc.gov.uk/meetings/recreation-amenities-committee-8th-january-2026/
URL:https://kingsworthy-pc.gov.uk/meetings/recreation-amenities-committee-8th-january-2026/
END:VEVENT
END:VCALENDAR
