BEGIN:VCALENDAR
VERSION:2.0
PRODID:-//Kings Worthy Parish Council//Meeting Calendar//EN
CALSCALE:GREGORIAN
METHOD:PUBLISH
BEGIN:VEVENT
UID:73450-20260120@kingsworthy-pc.gov.uk
DTSTAMP:20260419T203408Z
DTSTART;VALUE=DATE:20260120
DTEND;VALUE=DATE:20260121
SUMMARY:Planning &#038\\; Highways committee &#8211\\; 20th January 2026
DESCRIPTION:Planning &amp; Highways Committee Meeting\nView details: https://kingsworthy-pc.gov.uk/meetings/planning-highways-committee-20th-january-2026/
URL:https://kingsworthy-pc.gov.uk/meetings/planning-highways-committee-20th-january-2026/
END:VEVENT
END:VCALENDAR
