BEGIN:VCALENDAR
VERSION:2.0
PRODID:-//Kings Worthy Parish Council//Meeting Calendar//EN
CALSCALE:GREGORIAN
METHOD:PUBLISH
BEGIN:VEVENT
UID:73478-20260205@kingsworthy-pc.gov.uk
DTSTAMP:20260419T153750Z
DTSTART;VALUE=DATE:20260205
DTEND;VALUE=DATE:20260206
SUMMARY:Recreation &#038\\; Amenities committee – 5th February 2026
DESCRIPTION:Recreation &amp; Amenities Committee Meeting\nView details: https://kingsworthy-pc.gov.uk/meetings/recreation-amenities-committee-5th-february-2026/
URL:https://kingsworthy-pc.gov.uk/meetings/recreation-amenities-committee-5th-february-2026/
END:VEVENT
END:VCALENDAR
