BEGIN:VCALENDAR
VERSION:2.0
PRODID:-//Kings Worthy Parish Council//Meeting Calendar//EN
CALSCALE:GREGORIAN
METHOD:PUBLISH
BEGIN:VEVENT
UID:73559-20261130@kingsworthy-pc.gov.uk
DTSTAMP:20260419T151935Z
DTSTART;VALUE=DATE:20261130
DTEND;VALUE=DATE:20261201
SUMMARY:Full Council Meeting &#8211\\; 30 November 2026
DESCRIPTION:Full Council Meeting\nView details: https://kingsworthy-pc.gov.uk/meetings/full-council-meeting-30-november-2026/
URL:https://kingsworthy-pc.gov.uk/meetings/full-council-meeting-30-november-2026/
END:VEVENT
END:VCALENDAR
